BEGIN:VCALENDAR
VERSION:2.0
PRODID:-//olejuru - ECPv6.10.2//NONSGML v1.0//EN
CALSCALE:GREGORIAN
METHOD:PUBLISH
X-WR-CALNAME:olejuru
X-ORIGINAL-URL:https://www.foundation.olejurugroup.com
X-WR-CALDESC:Events for olejuru
REFRESH-INTERVAL;VALUE=DURATION:PT1H
X-Robots-Tag:noindex
X-PUBLISHED-TTL:PT1H
BEGIN:VTIMEZONE
TZID:UTC
BEGIN:STANDARD
TZOFFSETFROM:+0000
TZOFFSETTO:+0000
TZNAME:UTC
DTSTART:20250101T000000
END:STANDARD
END:VTIMEZONE
BEGIN:VEVENT
DTSTART;TZID=UTC:20250417T080000
DTEND;TZID=UTC:20250417T170000
DTSTAMP:20260421T185543
CREATED:20260312T222005Z
LAST-MODIFIED:20250314T150448Z
UID:2306-1744876800-1744909200@www.foundation.olejurugroup.com
SUMMARY:Ngwa Road Motherless Babies
DESCRIPTION:The Founder\, Mr Ogbu Mecnix\, Queenmother and Ikechi Donald of Olejuru Charity Foundation exemplified humanity as they visited the Ngwa Road Motherless Babies\, spreading love and hope to the little ones. \nTogether\, we can create a brighter future for these precious children who need it most! \nWe can make a difference!
URL:https://www.foundation.olejurugroup.com/event/ngwa-road-motherless-babies/
CATEGORIES:Events
ATTACH;FMTTYPE=image/jpeg:https://www.foundation.olejurugroup.com/wp-content/uploads/2025/03/471185210_570273615897149_6701821547773542322_n-1.jpg
END:VEVENT
BEGIN:VEVENT
DTSTART;TZID=UTC:20250312T080000
DTEND;TZID=UTC:20250312T170000
DTSTAMP:20260421T185543
CREATED:20250312T221719Z
LAST-MODIFIED:20250314T151110Z
UID:2298-1741766400-1741798800@www.foundation.olejurugroup.com
SUMMARY:Building a Future with Education
DESCRIPTION:At Olejuru Charity Foundation\, we firmly believe that education is the key to breaking the cycle of poverty and empowering future generations. In our unwavering commitment to uplifting the less privileged\, we are excited to announce our ambitious project to build a 1\,000-capacity school dedicated to providing quality education to children from underserved communities. \nThis monumental project is driven by the belief that every child\, regardless of their socio-economic background\, deserves access to a solid educational foundation. With the support of our dedicated partners\, volunteers\, and donors\, the Olejuru Charity Foundation is working tirelessly to construct a state-of-the-art school that will offer a safe\, nurturing\, and inclusive learning environment for children who may not otherwise have the opportunity to attend school. \nKey Objectives of the 1\,000-Capacity School Project: \n\n\nAccess to Quality Education: By providing educational opportunities for children from disadvantaged backgrounds\, we aim to equip them with the knowledge and skills needed to transform their futures. \n\n\nState-of-the-Art Facilities: The school will feature modern classrooms\, well-equipped learning spaces\, a library\, science and computer labs\, and sports facilities\, creating an environment conducive to both academic and personal development. \n\n\nSupport for Vulnerable Children: The school will specifically cater to children from less privileged families\, ensuring that they not only receive education but also have access to various forms of support\, such as mentorship\, counseling\, and scholarships. \n\n\nBuilding Future Leaders: Through quality education\, we aim to nurture the next generation of leaders\, thinkers\, and innovators who will go on to make a positive impact in their communities and the world. \n\n\nCommunity Empowerment: The school will serve as a beacon of hope and a symbol of what is possible when communities come together to invest in the future of their children. \n\n\nThis school is not just a building; it is a promise for a brighter\, more equitable future for children who would otherwise face barriers to education. It’s a space where dreams will be nurtured\, aspirations will be realized\, and communities will thrive. \nAs we embark on this incredible journey\, Olejuru Charity Foundation calls on individuals\, organizations\, and corporations to join us in making this vision a reality. Your support\, whether through donations\, volunteering\, or partnerships\, can make a profound difference in the lives of countless children. \nTogether\, we can ensure that every child\, regardless of their background\, has the opportunity to learn\, grow\, and succeed. \nBuilding Dreams. Empowering Futures. \nFor more information on how you can contribute to this transformative project\, please visit [Insert website or contact details]. \n#OlejuruCharityFoundation #BuildingCapacity #EducationForAll #EmpowerThroughEducation #ChangeLives
URL:https://www.foundation.olejurugroup.com/event/building-a-future-with-education-2/
END:VEVENT
BEGIN:VEVENT
DTSTART;TZID=UTC:20250312T080000
DTEND;TZID=UTC:20250312T170000
DTSTAMP:20260421T185543
CREATED:20250312T221055Z
LAST-MODIFIED:20250312T221109Z
UID:2301-1741766400-1741798800@www.foundation.olejurugroup.com
SUMMARY:Building a Future with Education
DESCRIPTION:At Olejuru Charity Foundation\, we firmly believe that education is the key to breaking the cycle of poverty and empowering future generations. In our unwavering commitment to uplifting the less privileged\, we are excited to announce our ambitious project to build a 1\,000-capacity school dedicated to providing quality education to children from underserved communities. \nThis monumental project is driven by the belief that every child\, regardless of their socio-economic background\, deserves access to a solid educational foundation. With the support of our dedicated partners\, volunteers\, and donors\, the Olejuru Charity Foundation is working tirelessly to construct a state-of-the-art school that will offer a safe\, nurturing\, and inclusive learning environment for children who may not otherwise have the opportunity to attend school. \nKey Objectives of the 1\,000-Capacity School Project: \n\n\nAccess to Quality Education: By providing educational opportunities for children from disadvantaged backgrounds\, we aim to equip them with the knowledge and skills needed to transform their futures. \n\n\nState-of-the-Art Facilities: The school will feature modern classrooms\, well-equipped learning spaces\, a library\, science and computer labs\, and sports facilities\, creating an environment conducive to both academic and personal development. \n\n\nSupport for Vulnerable Children: The school will specifically cater to children from less privileged families\, ensuring that they not only receive education but also have access to various forms of support\, such as mentorship\, counseling\, and scholarships. \n\n\nBuilding Future Leaders: Through quality education\, we aim to nurture the next generation of leaders\, thinkers\, and innovators who will go on to make a positive impact in their communities and the world. \n\n\nCommunity Empowerment: The school will serve as a beacon of hope and a symbol of what is possible when communities come together to invest in the future of their children. \n\n\nThis school is not just a building; it is a promise for a brighter\, more equitable future for children who would otherwise face barriers to education. It’s a space where dreams will be nurtured\, aspirations will be realized\, and communities will thrive. \nAs we embark on this incredible journey\, Olejuru Charity Foundation calls on individuals\, organizations\, and corporations to join us in making this vision a reality. Your support\, whether through donations\, volunteering\, or partnerships\, can make a profound difference in the lives of countless children. \nTogether\, we can ensure that every child\, regardless of their background\, has the opportunity to learn\, grow\, and succeed. \nBuilding Dreams. Empowering Futures. \nFor more information on how you can contribute to this transformative project\, please visit [Insert website or contact details]. \n#OlejuruCharityFoundation #BuildingCapacity #EducationForAll #EmpowerThroughEducation #ChangeLives
URL:https://www.foundation.olejurugroup.com/event/building-a-future-with-education/
CATEGORIES:Events
ATTACH;FMTTYPE=image/jpeg:https://www.foundation.olejurugroup.com/wp-content/uploads/2025/03/IMG_1193-scaled.jpg
END:VEVENT
BEGIN:VEVENT
DTSTART;VALUE=DATE:20250312
DTEND;VALUE=DATE:20250313
DTSTAMP:20260421T185543
CREATED:20250312T215713Z
LAST-MODIFIED:20250312T215726Z
UID:2288-1741737600-1741823999@www.foundation.olejurugroup.com
SUMMARY:Medical Outreach for Adults  #5thEdition
DESCRIPTION:Medical Outreach for Adults: Empowering Health and Wellness \nThe Olejuru Charity Foundation is thrilled to announce its 5th Edition of the Ugwueke Children’s Carnival\, with a special focus on adult health through our Medical Outreach program. This initiative is a pivotal part of our commitment to providing vital health services and creating awareness for the local community. \nAs we continue to celebrate the spirit of togetherness\, health\, and well-being\, our Medical Outreach will offer free medical screenings\, consultations\, and health education. This outreach is designed to ensure that adults in the community have access to quality health services\, even in the absence of accessible healthcare facilities. Through a team of dedicated healthcare professionals\, we aim to identify potential health issues\, offer early interventions\, and guide individuals toward healthier lifestyles. \nKey Highlights of the Medical Outreach: \n\nFree Health Screenings (Blood Pressure\, Blood Sugar\, Cholesterol Levels)\nConsultations with Medical Professionals\nHealth Education and Awareness on Preventative Care\nReferral Services for Further Treatment if Needed\nDistribution of Free Health Resources\n\nThe Ugwueke Children’s Carnival has always been a celebration of family and community. With this year’s Medical Outreach\, we expand our efforts to not only support the children but also empower the adults who play such vital roles in shaping the community’s future. \nWe invite all adults in the region to take advantage of this free service to improve their health and overall well-being.
URL:https://www.foundation.olejurugroup.com/event/medical-outreach-for-adults-5thedition/
CATEGORIES:Events
ATTACH;FMTTYPE=image/jpeg:https://www.foundation.olejurugroup.com/wp-content/uploads/2025/03/Medical-outreach.jpg
END:VEVENT
BEGIN:VEVENT
DTSTART;VALUE=DATE:20250312
DTEND;VALUE=DATE:20250313
DTSTAMP:20260421T185543
CREATED:20250312T125122Z
LAST-MODIFIED:20250312T180417Z
UID:2282-1741737600-1741823999@www.foundation.olejurugroup.com
SUMMARY:Ugwueke Children Carnival 5th Edition
DESCRIPTION:On the 31st of December\, children’s laughter and joyful smiles will echo across my hometown\, creating a magical atmosphere filled with holiday cheer!  It will be a day when everyone comes together to celebrate\, making memories that will last a lifetime.#ugwuekechildrencarnival #olejurucharityfoundation #4thEdition #ugwuekechildrencarnival
URL:https://www.foundation.olejurugroup.com/event/ugwueke-children-carnival-5th-edition/
CATEGORIES:Events
ATTACH;FMTTYPE=image/jpeg:https://www.foundation.olejurugroup.com/wp-content/uploads/2025/03/brand3.jpg
END:VEVENT
END:VCALENDAR